BEGIN:VCALENDAR
VERSION:2.0
PRODID:-//HealthSpring Healthier Together - ECPv6.15.15//NONSGML v1.0//EN
CALSCALE:GREGORIAN
METHOD:PUBLISH
X-ORIGINAL-URL:https://www.healthspringhealthiertogether.com/?lang=es
X-WR-CALDESC:Eventos para HealthSpring Healthier Together
REFRESH-INTERVAL;VALUE=DURATION:PT1H
X-Robots-Tag:noindex
X-PUBLISHED-TTL:PT1H
BEGIN:VTIMEZONE
TZID:America/Chicago
BEGIN:DAYLIGHT
TZOFFSETFROM:-0600
TZOFFSETTO:-0500
TZNAME:CDT
DTSTART:20250309T080000
END:DAYLIGHT
BEGIN:STANDARD
TZOFFSETFROM:-0500
TZOFFSETTO:-0600
TZNAME:CST
DTSTART:20251102T070000
END:STANDARD
BEGIN:DAYLIGHT
TZOFFSETFROM:-0600
TZOFFSETTO:-0500
TZNAME:CDT
DTSTART:20260308T080000
END:DAYLIGHT
BEGIN:STANDARD
TZOFFSETFROM:-0500
TZOFFSETTO:-0600
TZNAME:CST
DTSTART:20261101T070000
END:STANDARD
BEGIN:DAYLIGHT
TZOFFSETFROM:-0600
TZOFFSETTO:-0500
TZNAME:CDT
DTSTART:20270314T080000
END:DAYLIGHT
BEGIN:STANDARD
TZOFFSETFROM:-0500
TZOFFSETTO:-0600
TZNAME:CST
DTSTART:20271107T070000
END:STANDARD
END:VTIMEZONE
BEGIN:VTIMEZONE
TZID:America/Phoenix
BEGIN:STANDARD
TZOFFSETFROM:-0700
TZOFFSETTO:-0700
TZNAME:MST
DTSTART:20250101T000000
END:STANDARD
END:VTIMEZONE
BEGIN:VEVENT
DTSTART;TZID=America/Chicago:20260512T140000
DTEND;TZID=America/Chicago:20260512T150000
DTSTAMP:20260423T231413
CREATED:20260330T194337Z
LAST-MODIFIED:20260330T194337Z
UID:10002364-1778594400-1778598000@www.healthspringhealthiertogether.com
SUMMARY:Texas: Revisión de beneficios de clientes
DESCRIPTION:Esta reunión es para los clientes actuales de Medicare\, pero todos son bienvenidos. Acompáñanos para conocer más sobre tu cobertura del plan. También descubrirás formas de aprovechar al máximo tus beneficios y obtener respuestas a tus preguntas.
URL:https://www.healthspringhealthiertogether.com/event/texas-revision-de-beneficios-de-clientes-3/?lang=es
LOCATION:CenterWell Brownsville\, 1454 Center Blvd\, Brownsville\, TX\, 78520
CATEGORIES:Educación de los clientes
GEO:25.8984534;-97.5027614
X-APPLE-STRUCTURED-LOCATION;VALUE=URI;X-ADDRESS=CenterWell Brownsville 1454 Center Blvd Brownsville TX 78520;X-APPLE-RADIUS=500;X-TITLE=1454 Center Blvd:geo:-97.5027614,25.8984534
END:VEVENT
BEGIN:VEVENT
DTSTART;TZID=America/Chicago:20260514T100000
DTEND;TZID=America/Chicago:20260514T110000
DTSTAMP:20260423T231413
CREATED:20260330T194338Z
LAST-MODIFIED:20260330T194338Z
UID:10002365-1778752800-1778756400@www.healthspringhealthiertogether.com
SUMMARY:Texas: Revisión de beneficios de clientes
DESCRIPTION:Esta reunión es para los clientes actuales de Medicare\, pero todos son bienvenidos. Acompáñanos para conocer más sobre tu cobertura del plan. También descubrirás formas de aprovechar al máximo tus beneficios y obtener respuestas a tus preguntas.
URL:https://www.healthspringhealthiertogether.com/event/texas-revision-de-beneficios-de-clientes-4/?lang=es
LOCATION:CenterWell Edinburg\, 3601 S Business Hwy 281\, Edinburg\, TX\, 78539
CATEGORIES:Educación de los clientes
GEO:26.267948;-98.1724946
X-APPLE-STRUCTURED-LOCATION;VALUE=URI;X-ADDRESS=CenterWell Edinburg 3601 S Business Hwy 281 Edinburg TX 78539;X-APPLE-RADIUS=500;X-TITLE=3601 S Business Hwy 281:geo:-98.1724946,26.267948
END:VEVENT
BEGIN:VEVENT
DTSTART;TZID=America/Phoenix:20260616T100000
DTEND;TZID=America/Phoenix:20260616T110000
DTSTAMP:20260423T231413
CREATED:20260330T194548Z
LAST-MODIFIED:20260330T194548Z
UID:10002366-1781604000-1781607600@www.healthspringhealthiertogether.com
SUMMARY:Arizona: Día de cine
DESCRIPTION:Este es un evento divertido para mostrar nuestro agradecimiento a nuestros clientes actuales\, pero todos son bienvenidos.
URL:https://www.healthspringhealthiertogether.com/event/arizona-dia-de-cine/?lang=es
LOCATION:Harkins Theatre Arrowhead\, 16046 N Arrowhead Fountains Center Dr\, Peoria\, AZ\, 85382
CATEGORIES:Agradecimiento a los clientes
GEO:33.6304911;-112.2389774
X-APPLE-STRUCTURED-LOCATION;VALUE=URI;X-ADDRESS=Harkins Theatre Arrowhead 16046 N Arrowhead Fountains Center Dr Peoria AZ 85382;X-APPLE-RADIUS=500;X-TITLE=16046 N Arrowhead Fountains Center Dr:geo:-112.2389774,33.6304911
END:VEVENT
BEGIN:VEVENT
DTSTART;TZID=America/Phoenix:20260709T100000
DTEND;TZID=America/Phoenix:20260709T110000
DTSTAMP:20260423T231413
CREATED:20260330T194548Z
LAST-MODIFIED:20260417T193649Z
UID:10002367-1783591200-1783594800@www.healthspringhealthiertogether.com
SUMMARY:Arizona: Día de cine
DESCRIPTION:Este es un evento divertido para mostrar nuestro agradecimiento a nuestros clientes actuales\, pero todos son bienvenidos.
URL:https://www.healthspringhealthiertogether.com/event/arizona-dia-de-cine-2/?lang=es
LOCATION:Harkins Theatre Tempe Marketplace\, 2000 E Rio Salado Pkwy #1160\, Tempe\, AZ\, 85288
CATEGORIES:Agradecimiento a los clientes
GEO:33.4339701;-111.9014762
X-APPLE-STRUCTURED-LOCATION;VALUE=URI;X-ADDRESS=Harkins Theatre Tempe Marketplace 2000 E Rio Salado Pkwy #1160 Tempe AZ 85288;X-APPLE-RADIUS=500;X-TITLE=2000 E Rio Salado Pkwy #1160:geo:-111.9014762,33.4339701
END:VEVENT
BEGIN:VEVENT
DTSTART;TZID=America/Phoenix:20260804T100000
DTEND;TZID=America/Phoenix:20260804T110000
DTSTAMP:20260423T231413
CREATED:20260330T194548Z
LAST-MODIFIED:20260330T194548Z
UID:10002368-1785837600-1785841200@www.healthspringhealthiertogether.com
SUMMARY:Arizona: Día de cine
DESCRIPTION:Este es un evento divertido para mostrar nuestro agradecimiento a nuestros clientes actuales\, pero todos son bienvenidos.
URL:https://www.healthspringhealthiertogether.com/event/arizona-dia-de-cine-3/?lang=es
LOCATION:Harkins Theatre Park West\, 9804 W Northern Ave\, Peoria\, AZ\, 85345
CATEGORIES:Agradecimiento a los clientes
GEO:33.5546675;-112.2703535
X-APPLE-STRUCTURED-LOCATION;VALUE=URI;X-ADDRESS=Harkins Theatre Park West 9804 W Northern Ave Peoria AZ 85345;X-APPLE-RADIUS=500;X-TITLE=9804 W Northern Ave:geo:-112.2703535,33.5546675
END:VEVENT
BEGIN:VEVENT
DTSTART;TZID=America/Phoenix:20260901T100000
DTEND;TZID=America/Phoenix:20260901T110000
DTSTAMP:20260423T231413
CREATED:20260330T194549Z
LAST-MODIFIED:20260330T194549Z
UID:10002369-1788256800-1788260400@www.healthspringhealthiertogether.com
SUMMARY:Arizona: Día de cine
DESCRIPTION:Este es un evento divertido para mostrar nuestro agradecimiento a nuestros clientes actuales\, pero todos son bienvenidos.
URL:https://www.healthspringhealthiertogether.com/event/arizona-dia-de-cine-4/?lang=es
LOCATION:Harkins Theatre Superstition Springs\, 6950 E Superstition Springs Blvd\, Mesa\, AZ\, 85209
CATEGORIES:Agradecimiento a los clientes
GEO:33.3855333;-111.681259
X-APPLE-STRUCTURED-LOCATION;VALUE=URI;X-ADDRESS=Harkins Theatre Superstition Springs 6950 E Superstition Springs Blvd Mesa AZ 85209;X-APPLE-RADIUS=500;X-TITLE=6950 E Superstition Springs Blvd:geo:-111.681259,33.3855333
END:VEVENT
END:VCALENDAR